BEGIN:VCALENDAR
PRODID:-//github.com/ical-org/ical.net//NONSGML ical.net 4.0//EN
VERSION:2.0
BEGIN:VEVENT
DESCRIPTION:\n\n\n\nBen je op zoek naar nieuwe vrijwilligers maar weet je 
 niet goed waar je moet beginnen? Wil je graag nieuwe doelgroepen bereiken
  maar vraag je je af hoe je dit aanpakt? Hoe maak je jouw organisatie of 
 gemeenschap aantrekkelijk voor mensen die zich willen inzetten voor immat
 erieel erfgoed? Ga samen met andere gemeenschappen aan de slag met deze v
 ragen tijdens de Expeditie Nieuwe Gezichten. Speciaal voor immaterieel er
 fgoedgemeenschappen.\n\n\n\n Lees meer: https://www.erfgoedhuis-zh.nl/age
 nda/2026/expeditie-nieuwe-gezichten-immaterieel-erfgoed/
DTEND:20261110T130000Z
DTSTAMP:20260421T211634Z
DTSTART:20260915T123000Z
LOCATION:
SEQUENCE:0
SUMMARY:Expeditie Nieuwe Gezichten - voor immaterieel erfgoedgemeenschappen
UID:59d6db7a-1d1a-4633-b430-e85afa6eefcc
END:VEVENT
END:VCALENDAR
