BEGIN:VCALENDAR
PRODID:-//github.com/ical-org/ical.net//NONSGML ical.net 4.0//EN
VERSION:2.0
BEGIN:VEVENT
DESCRIPTION:\n\n\n\nDe omgeving van het monument krijgt onder de Omgevings
 wet een wettelijke status\, maar hoe bepaal je deze omgeving in de prakti
 jk? Deze vraag staat centraal tijdens de kennisbijeenkomst op 16 april.\n
 \n\n\n Lees meer: https://www.erfgoedhuis-zh.nl/agenda/2026/omgeving-van-
 het-monument/
DTEND:20260416T173000Z
DTSTAMP:20260420T121404Z
DTSTART:20260416T130000Z
LOCATION:
SEQUENCE:0
SUMMARY:Aan de slag met de omgeving van het monument
UID:4bed0815-34c5-4454-9c41-3613fda883e6
END:VEVENT
END:VCALENDAR
