BEGIN:VCALENDAR
PRODID:-//github.com/ical-org/ical.net//NONSGML ical.net 4.0//EN
VERSION:2.0
BEGIN:VEVENT
DESCRIPTION:\n\n\n\nOm je collectie te ontsluiten en te delen\, is het ess
 entieel om je collectie te fotograferen. Door een foto aan een object te 
 koppelen\, verbeter je de registratie aanzienlijk. Maar hoe maak je duide
 lijke foto's met eenvoudige middelen? Waar let je op bij belichting\, ach
 tergrond\, beeldformaat en camera-instellingen? En hoe regel je de juiste
  opslag en nabewerking?\n\n\n\n Lees meer: https://www.erfgoedhuis-zh.nl/
 agenda/2026/cursus-fotograferen-van-je-collectie/
DTEND:20260331T150000Z
DTSTAMP:20260420T084240Z
DTSTART:20260303T100000Z
LOCATION:
SEQUENCE:0
SUMMARY:Fotograferen van je collectie
UID:16466285-db6b-4d95-b76b-1fd73ea05cf0
END:VEVENT
END:VCALENDAR
