BEGIN:VCALENDAR
PRODID:-//github.com/ical-org/ical.net//NONSGML ical.net 4.0//EN
VERSION:2.0
BEGIN:VEVENT
DESCRIPTION:\n\n\n\nDe trends rond Artificial Intelligence (AI) wisselen s
 nel\, van doemscenario’s over controle en privacy tot oplossingen voor ma
 atschappelijke uitdagingen. Begrippen als LLM\, prompts en ChatGPT roepen
  vaak vragen op. AI biedt erfgoedorganisaties kansen\, zoals het transcri
 beren van 17e-eeuwse handschriften en het herkennen van personen op foto’
 s. AI- en erfgoedexpert Heleen Wilbrink laat tijdens deze bijeenkomst zie
 n wat AI kan betekenen voor jouw digitale collectie.\n\n\n\n Lees meer: h
 ttps://www.erfgoedhuis-zh.nl/agenda/2025/artificial-intelligence/
DTEND:20250417T170000Z
DTSTAMP:20260425T150416Z
DTSTART:20250417T130000Z
LOCATION:
SEQUENCE:0
SUMMARY:AI voor erfgoedorganisaties
UID:0fff48f3-bbaf-4b81-beff-ec13675dffaf
END:VEVENT
END:VCALENDAR
