BEGIN:VCALENDAR
PRODID:-//github.com/ical-org/ical.net//NONSGML ical.net 4.0//EN
VERSION:2.0
BEGIN:VEVENT
DESCRIPTION:Ruim 40.000 vrijwilligers werken dagelijks aan het Zuid-Hollan
 dse erfgoed\, maar hun aantal daalt door tijdgebrek en vergrijzing. Daarn
 aast zoeken vrijwilligers vaker kortlopende projecten. Hoe zorg je als er
 fgoedorganisatie voor een open en aantrekkelijke omgeving voor nieuwe vri
 jwilligers? En hoe behoud je de betrokkenheid van je huidige vrijwilliger
 s? Lees meer: https://www.erfgoedhuis-zh.nl/agenda/2025/samen-op-zoek-naa
 r-nieuwe-vrijwilligers/
DTEND:20250407T130000Z
DTSTAMP:20260420T083740Z
DTSTART:20250303T120000Z
LOCATION:
SEQUENCE:0
SUMMARY:Samen op zoek naar nieuwe vrijwilligers
UID:8a5d42d8-6ab9-46d7-b6ff-10f296ce4390
END:VEVENT
END:VCALENDAR
