BEGIN:VCALENDAR
PRODID:-//github.com/ical-org/ical.net//NONSGML ical.net 4.0//EN
VERSION:2.0
BEGIN:VEVENT
DESCRIPTION:Hoe beschermen we ons erfgoed in een steeds sneller veranderen
 de wereld? Welke keuzes moeten we maken en hoe kunnen we juist gebruik ma
 ken van erfgoed om onze leefomgeving toekomstbestendig te maken? Over dez
 e vragen en meer gaan we het hebben op de Erfgoeddag die dit jaar helemaa
 l in het teken staat van duurzaamheid. Ga de dialoog aan en doe inspirati
 e op tijdens de Erfgoeddag op vrijdag 15 november in de Stadsgehoorzaal i
 n Leiden. Lees meer: https://www.erfgoedhuis-zh.nl/agenda/2024/erfgoeddag
 -2024/
DTEND:20241115T180000Z
DTSTAMP:20260421T133940Z
DTSTART:20241115T100000Z
LOCATION:Stadsgehoorzaal Leiden
SEQUENCE:0
SUMMARY:Erfgoeddag 2024: Verleden met visie - Erfgoed en duurzaamheid
UID:29490c96-9e4b-449c-b634-dd5e59151bda
END:VEVENT
END:VCALENDAR
