BEGIN:VCALENDAR
PRODID:-//github.com/ical-org/ical.net//NONSGML ical.net 4.0//EN
VERSION:2.0
BEGIN:VEVENT
DESCRIPTION:\n\n\n\nZie je in je collectieregistratie typfouten\, extra sp
 aties of namen op verschillende manieren geschreven? Hierdoor wordt het l
 astig voor gebruikers om erin te zoeken of voor computers je collectie te
  verbinden. Leer daarom met OpenRefine je collectiedata eenvoudig in bulk
  op te schonen\, te verrijken en te verbinden.\n\n\n\n Lees meer: https:/
 /www.erfgoedhuis-zh.nl/agenda/2025/cursus-collectiedata-opschonen-openref
 ine-basis-december/
DTEND:20251204T103000Z
DTSTAMP:20260423T090046Z
DTSTART:20251204T100000Z
LOCATION:Meisjeshuis Delft
SEQUENCE:0
SUMMARY:Je collectiedata opschonen met OpenRefine (basis)
UID:3e105369-6f48-46d1-bb93-f88fce5eddc3
END:VEVENT
END:VCALENDAR
