BEGIN:VCALENDAR
PRODID:-//github.com/ical-org/ical.net//NONSGML ical.net 4.0//EN
VERSION:2.0
BEGIN:VEVENT
DESCRIPTION:Wil je meer weten over de houtzaagmolen? Wil je molen De Herde
 r en De Salamander in Leidschendam bezoeken? Kom ook dit jaar naar de naj
 aarsbijeenkomst van het molennetwerk op 20 oktober. De houtzaagmolen staa
 t centraal in het programma en komt aan de hand van diverse hedendaagse t
 hema’s terug. Na een lekkere lunch breng je per touringcar een bezoek aan
  twee houtzaagmolens.  Lees meer: https://www.erfgoedhuis-zh.nl/agenda/20
 23/najaarsbijeenkomst-molennetwerk/
DTEND:20231020T100000Z
DTSTAMP:20260426T044029Z
DTSTART:20231020T093000Z
LOCATION:
SEQUENCE:0
SUMMARY:Najaarsbijeenkomst Molennetwerk Zuid-Holland
UID:637471dd-9a6a-49bf-8568-7b2e18dabee0
END:VEVENT
END:VCALENDAR
