BEGIN:VCALENDAR
PRODID:-//github.com/ical-org/ical.net//NONSGML ical.net 4.0//EN
VERSION:2.0
BEGIN:VEVENT
DESCRIPTION:Erfgoed is van ons allemaal\, maar hoe zorg je ervoor dat iede
 reen zich welkom voelt op jouw erfgoedlocatie en dat iedereen zoveel moge
 lijk mee kan doen? Sociale toegankelijkheid speelt een grote rol bij het 
 ontvangen van gasten of nieuwe vrijwilligers die een lichamelijke of vers
 tandelijke beperking hebben. Wat kun jij doen om sociale toegankelijkheid
  te verbeteren? Kom op 10 mei naar de digitale bijeenkomst 'Ervaringsdesk
 undigen aan het woord'. Lees meer: https://www.erfgoedhuis-zh.nl/agenda/2
 023/sociale-toegankelijkheid-ervaringsdeskundigen-aan-het-woord/
DTEND:20230510T103000Z
DTSTAMP:20260423T035613Z
DTSTART:20230510T100000Z
LOCATION:
SEQUENCE:0
SUMMARY:Sociale toegankelijkheid: ervaringsdeskundigen aan het woord
UID:507d2f7d-ddc1-4463-8390-168aae48474a
END:VEVENT
END:VCALENDAR
