BEGIN:VCALENDAR
PRODID:-//github.com/ical-org/ical.net//NONSGML ical.net 4.0//EN
VERSION:2.0
BEGIN:VEVENT
DESCRIPTION:Dagelijks zetten ruim 40.000 vrijwilligers zich in voor het Zu
 id-Hollandse erfgoed. Onder invloed van bijvoorbeeld tijdgebrek of de cor
 onapandemie\, neemt het aantal vrijwilligers echter af. Bovendien zijn vr
 ijwilligers steeds vaker op zoek naar tijdelijke vormen van vrijwilligers
 werk\, zoals een kortlopend project. Hoe kun je er als erfgoedorganisatie
  voor zorgen dat jouw organisatie dan zo open mogelijk staat voor nieuwe 
 vrijwilligers in je organisatie? Lees meer: https://www.erfgoedhuis-zh.nl
 /agenda/2023/training-nieuwe-vrijwilligers/
DTEND:20230412T130000Z
DTSTAMP:20260423T035243Z
DTSTART:20230412T093000Z
LOCATION:
SEQUENCE:0
SUMMARY:Training: Samen op zoek naar nieuwe vrijwilligers
UID:3e691150-5f61-4f55-9f37-92b19dd48302
END:VEVENT
END:VCALENDAR
