BEGIN:VCALENDAR
PRODID:-//github.com/ical-org/ical.net//NONSGML ical.net 4.0//EN
VERSION:2.0
BEGIN:VEVENT
DESCRIPTION:Zou jij graag meer leerlingen ontvangen in jouw museum of erfg
 oedlocatie\, maar weet je niet zo goed waar je moet beginnen? Leer hoe je
  jouw erfgoedlocatie zo aantrekkelijk mogelijk kan maken voor schoolklass
 en. Want hoe ziet een goed en bruikbaar lespakket voor de basisschool eru
 it? En hoe zorg je dat een bezoek aan jouw erfgoed aansluit bij het curri
 culum? Dit en meer leer je tijdens de cursus erfgoededucatie op 21 februa
 ri. Lees meer: https://www.erfgoedhuis-zh.nl/agenda/2023/cursus-erfgoeded
 ucatie/
DTEND:20230221T003000Z
DTSTAMP:20260423T040122Z
DTSTART;VALUE=DATE:20230221
LOCATION:
SEQUENCE:0
SUMMARY:Cursus Erfgoededucatie
UID:cbfe926a-7dca-4b43-b39d-acb12d0002d6
END:VEVENT
END:VCALENDAR
