BEGIN:VCALENDAR
PRODID:-//github.com/ical-org/ical.net//NONSGML ical.net 4.0//EN
VERSION:2.0
BEGIN:VEVENT
DESCRIPTION:Wil je mensen interviewen over de geschiedenis van een bijzond
 ere molen? Graag nodigen we je uit om zelf aan de slag te gaan met oral h
 istory om verhalen over molens te kunnen verzamelen en vast te leggen. Ko
 m naar de tweedaagse training oral history op zaterdag 5 en zaterdag 12 n
 ovember. Meld je nu aan via onderstaand formulier. Lees meer: https://www
 .erfgoedhuis-zh.nl/agenda/2022/cursus-oral-history/
DTEND:20221105T003000Z
DTSTAMP:20260421T180335Z
DTSTART;VALUE=DATE:20221105
LOCATION:
SEQUENCE:0
SUMMARY:Cursus Oral History
UID:3db66aa5-5246-4d4e-89c0-4a02f2971ce9
END:VEVENT
END:VCALENDAR
