BEGIN:VCALENDAR
PRODID:-//github.com/ical-org/ical.net//NONSGML ical.net 4.0//EN
VERSION:2.0
BEGIN:VEVENT
DESCRIPTION:Veel Nederlandse erfgoedinstellingen hebben nog geen digitale 
 strategie\, blijkt uit de 1-meting de stand van het Nederlands digitaal e
 rfgoed. Maar het besef groeit dat het beter is om nieuwe standaarden\, on
 twikkelingen en beleid te formuleren in een expliciete strategie. Dit gel
 dt voor grote én kleine instellingen. Met een informatieplan inventarisee
 r\, onderzoek en maak je plannen om je digitale collectie duurzaam te bew
 aren en nog beter te presenteren aan het publiek. Weet je niet waar je mo
 et beginnen\, heb je hulp nodig\, of wil je weten waar je met je organisa
 tie staat? Gebruik de Informatieplanner.  Lees meer: https://www.erfgoedh
 uis-zh.nl/agenda/2022/werken-met-de-informatieplanner-een-informatieplan-
 in-5-stappen/
DTEND:20220331T003000Z
DTSTAMP:20260421T175920Z
DTSTART;VALUE=DATE:20220331
LOCATION:
SEQUENCE:0
SUMMARY:Werken met de Informatieplanner: een informatieplan in 5 stappen
UID:e50d0e3d-7700-4ec9-8290-99dda2a68709
END:VEVENT
END:VCALENDAR
