BEGIN:VCALENDAR
PRODID:-//github.com/ical-org/ical.net//NONSGML ical.net 4.0//EN
VERSION:2.0
BEGIN:VEVENT
DESCRIPTION:In deze cursus leer je hoe gemeenten werken en waar je moet zi
 jn voor je lobby. Veel mensen kennen de basis\, maar als je het beleid wi
 l begrijpen en beïnvloeden is het van groot belang het proces en de spele
 rs goed te kennen. Alleen op die manier kan je effectief je belang behart
 igen. Lees meer: https://www.erfgoedhuis-zh.nl/agenda/2022/lokale-belange
 nbehartiging/
DTEND:20220314T003000Z
DTSTAMP:20260421T180548Z
DTSTART;VALUE=DATE:20220314
LOCATION:
SEQUENCE:0
SUMMARY:Lokale belangenbehartiging
UID:e437a955-362e-4d94-9987-be505a7e4fa7
END:VEVENT
END:VCALENDAR
