BEGIN:VCALENDAR
PRODID:-//github.com/ical-org/ical.net//NONSGML ical.net 4.0//EN
VERSION:2.0
BEGIN:VEVENT
DESCRIPTION:In deze cursus richten we ons op vertellen\, daarom is deze da
 g vooral bedoeld voor gidsen en rondleiders die hun informatieve inhoud m
 et behulp van verteltechnieken willen verdiepen. We gaan op zoek naar een
  manier van storytelling die bij jou past. Lees meer: https://www.erfgoed
 huis-zh.nl/agenda/2022/storytelling/
DTEND:20220223T003000Z
DTSTAMP:20260421T180700Z
DTSTART;VALUE=DATE:20220223
LOCATION:
SEQUENCE:0
SUMMARY:Storytelling
UID:0892bbc2-1812-4c15-af01-7c994df071fb
END:VEVENT
END:VCALENDAR
